BEGIN:VCALENDAR
VERSION:2.0
PRODID:-//The Hong Kong Society For Infectious Diseases 香港感染及傳染病醫學會 - ECPv6.15.20//NONSGML v1.0//EN
CALSCALE:GREGORIAN
METHOD:PUBLISH
X-WR-CALNAME:The Hong Kong Society For Infectious Diseases 香港感染及傳染病醫學會
X-ORIGINAL-URL:https://hksid.org
X-WR-CALDESC:Events for The Hong Kong Society For Infectious Diseases 香港感染及傳染病醫學會
REFRESH-INTERVAL;VALUE=DURATION:PT1H
X-Robots-Tag:noindex
X-PUBLISHED-TTL:PT1H
BEGIN:VTIMEZONE
TZID:Asia/Singapore
BEGIN:STANDARD
TZOFFSETFROM:+0800
TZOFFSETTO:+0800
TZNAME:+08
DTSTART:20160101T000000
END:STANDARD
END:VTIMEZONE
BEGIN:VTIMEZONE
TZID:UTC
BEGIN:STANDARD
TZOFFSETFROM:+0000
TZOFFSETTO:+0000
TZNAME:UTC
DTSTART:20150101T000000
END:STANDARD
END:VTIMEZONE
BEGIN:VTIMEZONE
TZID:America/New_York
BEGIN:DAYLIGHT
TZOFFSETFROM:-0500
TZOFFSETTO:-0400
TZNAME:EDT
DTSTART:20160313T070000
END:DAYLIGHT
BEGIN:STANDARD
TZOFFSETFROM:-0400
TZOFFSETTO:-0500
TZNAME:EST
DTSTART:20161106T060000
END:STANDARD
BEGIN:DAYLIGHT
TZOFFSETFROM:-0500
TZOFFSETTO:-0400
TZNAME:EDT
DTSTART:20170312T070000
END:DAYLIGHT
BEGIN:STANDARD
TZOFFSETFROM:-0400
TZOFFSETTO:-0500
TZNAME:EST
DTSTART:20171105T060000
END:STANDARD
BEGIN:DAYLIGHT
TZOFFSETFROM:-0500
TZOFFSETTO:-0400
TZNAME:EDT
DTSTART:20180311T070000
END:DAYLIGHT
BEGIN:STANDARD
TZOFFSETFROM:-0400
TZOFFSETTO:-0500
TZNAME:EST
DTSTART:20181104T060000
END:STANDARD
END:VTIMEZONE
BEGIN:VTIMEZONE
TZID:Asia/Shanghai
BEGIN:STANDARD
TZOFFSETFROM:+0800
TZOFFSETTO:+0800
TZNAME:CST
DTSTART:20140101T000000
END:STANDARD
END:VTIMEZONE
BEGIN:VTIMEZONE
TZID:Asia/Hong_Kong
BEGIN:STANDARD
TZOFFSETFROM:+0800
TZOFFSETTO:+0800
TZNAME:HKT
DTSTART:20150101T000000
END:STANDARD
END:VTIMEZONE
BEGIN:VEVENT
DTSTART;VALUE=DATE:20170824
DTEND;VALUE=DATE:20170827
DTSTAMP:20260419T132203
CREATED:20161210T234405Z
LAST-MODIFIED:20170423T171812Z
UID:779-1503532800-1503791999@hksid.org
SUMMARY:Singapore International Infectious Disease Conference
DESCRIPTION:Brochure
URL:https://hksid.org/event/singapore-international-infectious-disease-conference/
LOCATION:Grand Copthorne Waterfront\, Singapore
END:VEVENT
BEGIN:VEVENT
DTSTART;VALUE=DATE:20170822
DTEND;VALUE=DATE:20170824
DTSTAMP:20260419T132203
CREATED:20170423T172115Z
LAST-MODIFIED:20170423T172115Z
UID:831-1503360000-1503532799@hksid.org
SUMMARY:Singapore Antimicrobial Stewardship Training Course
DESCRIPTION:
URL:https://hksid.org/event/singapore-antimicrobial-stewardship-training-course/
END:VEVENT
BEGIN:VEVENT
DTSTART;VALUE=DATE:20170601
DTEND;VALUE=DATE:20170604
DTSTAMP:20260419T132203
CREATED:20170204T175702Z
LAST-MODIFIED:20170206T160647Z
UID:800-1496275200-1496534399@hksid.org
SUMMARY:21st annual HIV Update: Contemporary Issues in Management
DESCRIPTION:
URL:https://hksid.org/event/21st-annual-hiv-update-contemporary-issues-in-management/
LOCATION:Unnamed Venue\, Boston\, MA\, United States
END:VEVENT
BEGIN:VEVENT
DTSTART;VALUE=DATE:20170601
DTEND;VALUE=DATE:20170604
DTSTAMP:20260419T132203
CREATED:20170204T174855Z
LAST-MODIFIED:20170418T002659Z
UID:798-1496275200-1496534399@hksid.org
SUMMARY:2nd Asia Pacific AIDS & Co-infections Conference (APACC 2017)
DESCRIPTION:
URL:https://hksid.org/event/2nd-asia-pacific-aids-co-infections-conference-apacc-2017/
LOCATION:Hong Kong Convention and Exhibition Centre
END:VEVENT
BEGIN:VEVENT
DTSTART;VALUE=DATE:20170520
DTEND;VALUE=DATE:20170522
DTSTAMP:20260419T132203
CREATED:20161113T230252Z
LAST-MODIFIED:20161113T230252Z
UID:770-1495238400-1495411199@hksid.org
SUMMARY:6th Asian Conference on Hepatitis and AIDS (ACHA)
DESCRIPTION:
URL:https://hksid.org/event/6th-asian-conference-on-hepatitis-and-aids-acha/
LOCATION:Unnamed Venue\, Shenzhen\, China
END:VEVENT
BEGIN:VEVENT
DTSTART;TZID=Asia/Shanghai:20170517T183000
DTEND;TZID=Asia/Shanghai:20170517T193000
DTSTAMP:20260419T132203
CREATED:20170513T005551Z
LAST-MODIFIED:20170715T181715Z
UID:837-1495045800-1495049400@hksid.org
SUMMARY:Severe sepsis in a young lady after use of biologics
DESCRIPTION:Document
URL:https://hksid.org/event/severe-sepsis-in-a-young-lady-after-use-of-biologics/
LOCATION:Major Incident Control Centre (MICC)\, 16th floor\, Block S\, Princess Margaret Hospital\, Hong Kong
END:VEVENT
BEGIN:VEVENT
DTSTART;VALUE=DATE:20170429
DTEND;VALUE=DATE:20170501
DTSTAMP:20260419T132203
CREATED:20170302T171439Z
LAST-MODIFIED:20170302T171439Z
UID:811-1493424000-1493596799@hksid.org
SUMMARY:Multi-specialty Medical Mega Conference 2017
DESCRIPTION:
URL:https://hksid.org/event/multi-specialty-medical-mega-conference-2017/
LOCATION:Cordis Hong Kong\, Langham Place\, Hong Kong
END:VEVENT
BEGIN:VEVENT
DTSTART;TZID=UTC:20170311T120000
DTEND;TZID=UTC:20170311T164500
DTSTAMP:20260419T132203
CREATED:20170119T172320Z
LAST-MODIFIED:20170214T170559Z
UID:794-1489233600-1489250700@hksid.org
SUMMARY:21st HKSID Annual Scientific Meeting
DESCRIPTION:Registration Form
URL:https://hksid.org/event/21st-hksid-annual-scientific-meeting/
LOCATION:Hyatt Regency Tsim Sha Tsui\, 18 Hanoi Road\, Tsim Sha Tsui\, Hong Kong\, Hong Kong
END:VEVENT
BEGIN:VEVENT
DTSTART;TZID=Asia/Hong_Kong:20170215T183000
DTEND;TZID=Asia/Hong_Kong:20170215T193000
DTSTAMP:20260419T132203
CREATED:20170215T234052Z
LAST-MODIFIED:20170220T173057Z
UID:805-1487183400-1487187000@hksid.org
SUMMARY:RSV - Not Just a Paediatric Disease?
DESCRIPTION:Document
URL:https://hksid.org/event/rsv-not-just-a-paediatric-disease/
LOCATION:Major Incident Control Centre (MICC)\, Princess Margaret Hospital\, Hong Kong
END:VEVENT
BEGIN:VEVENT
DTSTART;VALUE=DATE:20170119
DTEND;VALUE=DATE:20170122
DTSTAMP:20260419T132203
CREATED:20161009T094052Z
LAST-MODIFIED:20161009T100035Z
UID:743-1484784000-1485043199@hksid.org
SUMMARY:4th International Workshop on Lung Health Asthma and COPD. New Paradigms in preventing exacerbations in respiratory diseases (Lung Health 2017)
DESCRIPTION:
URL:https://hksid.org/event/4th-international-workshop-on-lung-health-asthma-and-copd/
LOCATION:Unnamed Venue\, Budapest\, Hungary
ATTACH;FMTTYPE=image/jpeg:https://hksid.org/wp-content/uploads/2016/10/Lung-Health-2017_banner.jpg
END:VEVENT
BEGIN:VEVENT
DTSTART;TZID=UTC:20170118T183000
DTEND;TZID=UTC:20170118T193000
DTSTAMP:20260419T132203
CREATED:20170119T171535Z
LAST-MODIFIED:20170302T172334Z
UID:792-1484764200-1484767800@hksid.org
SUMMARY:Inter-­hospital Infectious Diseases Grand Round - “Malaria\, a revisit”
DESCRIPTION:Document
URL:https://hksid.org/event/inter-%c2%adhospital-infectious-diseases-grand-round-malaria-a-revisit/
LOCATION:Major Incident Control Centre (MICC)\, Princess Margaret Hospital\, Hong Kong
END:VEVENT
BEGIN:VEVENT
DTSTART;TZID=Asia/Shanghai:20170107T101500
DTEND;TZID=Asia/Shanghai:20170107T120000
DTSTAMP:20260419T132203
CREATED:20170105T161239Z
LAST-MODIFIED:20170105T161239Z
UID:787-1483784100-1483790400@hksid.org
SUMMARY:Changing Human Behaviour Reducing Risk
DESCRIPTION:
URL:https://hksid.org/event/changing-human-behaviour-reducing-risk/
LOCATION:The Hong Kong Polytechnic University\, The Hong Kong Polytechnic University\, Hong Kong
END:VEVENT
BEGIN:VEVENT
DTSTART;TZID=Asia/Hong_Kong:20161203T133000
DTEND;TZID=Asia/Hong_Kong:20161203T171500
DTSTAMP:20260419T132203
CREATED:20161119T180447Z
LAST-MODIFIED:20161119T180447Z
UID:774-1480771800-1480785300@hksid.org
SUMMARY:Inaugural Meeting of HONG KONG SOCIETY FOR HIV MEDICINE
DESCRIPTION:
URL:https://hksid.org/event/inaugural-meeting-of-hong-kong-society-for-hiv-medicine/
LOCATION:Hyatt Regency Tsim Sha Tsui\, 18 Hanoi Road\, Tsim Sha Tsui\, Hong Kong\, Hong Kong
END:VEVENT
BEGIN:VEVENT
DTSTART;VALUE=DATE:20161130
DTEND;VALUE=DATE:20161201
DTSTAMP:20260419T132203
CREATED:20161112T003936Z
LAST-MODIFIED:20161112T004012Z
UID:768-1480464000-1480550399@hksid.org
SUMMARY:Doc\, I have blurred vision !
DESCRIPTION:–
URL:https://hksid.org/event/doc-i-have-blurred-vision/
LOCATION:Major Incident Control Centre (MICC)\, Princess Margaret Hospital\, Hong Kong
END:VEVENT
BEGIN:VEVENT
DTSTART;TZID=Asia/Hong_Kong:20161125T140000
DTEND;TZID=Asia/Hong_Kong:20161125T183000
DTSTAMP:20260419T132203
CREATED:20161009T093128Z
LAST-MODIFIED:20161009T093151Z
UID:739-1480082400-1480098600@hksid.org
SUMMARY:Conference 2016: Emerging Issues in HIV/AIDS Prevention and Treatment
DESCRIPTION:For registration\, please complete the registration form and return it to us via email to info@mylife-choice.org or by post to our address at Room 1001A\, Witty Commercial Building\, 1A-1L Tung Choi Street\, Mongkok\, KLN. \nOnly registration by email or post will be accepted. \nRegistration will be on a first-come-first-served basis. \nFor enquires\, please contact Ms. Shara Ho or Mr. Kurt Nan at 3188-9024.
URL:https://hksid.org/event/conference-2016-emerging-issues-in-hivaids-prevention-and-treatment/
LOCATION:The Cityview\, YMCA\,  23 Waterloo Road\, Kowloon\, Hong Kong\, Hong Kong\, Hong Kong
END:VEVENT
BEGIN:VEVENT
DTSTART;TZID=Asia/Hong_Kong:20161019T180000
DTEND;TZID=Asia/Hong_Kong:20161019T190000
DTSTAMP:20260419T132203
CREATED:20161009T103605Z
LAST-MODIFIED:20161009T103605Z
UID:748-1476900000-1476903600@hksid.org
SUMMARY:Inter-­hospital Infectious Diseases Grand Round : "Doc\, I have blurred vision! "
DESCRIPTION:
URL:https://hksid.org/event/inter-%c2%adhospital-infectious-diseases-grand-round-doc-i-have-blurred-vision/
LOCATION:Major Incident Control Centre (MICC)\, Princess Margaret Hospital\, Hong Kong
END:VEVENT
BEGIN:VEVENT
DTSTART;TZID=UTC:20160925T163000
DTEND;TZID=UTC:20160925T180000
DTSTAMP:20260419T132203
CREATED:20160918T223505Z
LAST-MODIFIED:20160918T223505Z
UID:729-1474821000-1474826400@hksid.org
SUMMARY:創科博覽2016《禽流感 - 免除恐懼的奮鬥和希望》
DESCRIPTION:
URL:https://hksid.org/event/%e5%89%b5%e7%a7%91%e5%8d%9a%e8%a6%bd2016%e3%80%8a%e7%a6%bd%e6%b5%81%e6%84%9f-%e5%85%8d%e9%99%a4%e6%81%90%e6%87%bc%e7%9a%84%e5%a5%ae%e9%ac%a5%e5%92%8c%e5%b8%8c%e6%9c%9b%e3%80%8b/
LOCATION:香港會議展覽中心3F-G
END:VEVENT
BEGIN:VEVENT
DTSTART;TZID=UTC:20160921T180000
DTEND;TZID=UTC:20160921T190000
DTSTAMP:20260419T132203
CREATED:20160925T185653Z
LAST-MODIFIED:20161002T224713Z
UID:732-1474480800-1474484400@hksid.org
SUMMARY:Acute HIV Infection in the Era of PEP and PrEP
DESCRIPTION:Document
URL:https://hksid.org/event/acute-hiv-infection-in-the-era-of-pep-and-prep/
LOCATION:Major Incident Control Centre (MICC)\, Princess Margaret Hospital\, Hong Kong
END:VEVENT
BEGIN:VEVENT
DTSTART;VALUE=DATE:20160817
DTEND;VALUE=DATE:20160818
DTSTAMP:20260419T132203
CREATED:20160813T023551Z
LAST-MODIFIED:20161002T224600Z
UID:724-1471392000-1471478399@hksid.org
SUMMARY:ID Grand Round  : What have we learnt in Boston
DESCRIPTION:Speaker: Dr Thomas Chik and Dr Ting Wan Man \nDocument
URL:https://hksid.org/event/id-grand-round-what-have-we-learnt-in-boston/
LOCATION:Major Incident Control Centre (MICC)\, 16th floor\, Block S\, Princess Margaret Hospital\, Hong Kong
END:VEVENT
BEGIN:VEVENT
DTSTART;TZID=UTC:20160720T180000
DTEND;TZID=UTC:20160720T190000
DTSTAMP:20260419T132203
CREATED:20160711T224802Z
LAST-MODIFIED:20160813T024432Z
UID:711-1469037600-1469041200@hksid.org
SUMMARY:Inter-hospital Infectious Diseases Grand Round - “An Ugly Face”
DESCRIPTION:Dr Rocky Shum – PHLC \nDocument
URL:https://hksid.org/event/inter-hospital-infectious-diseases-grand-round-an-ugly-face/
LOCATION:Major Incident Control Centre (MICC)\, 16th floor\, Block S\, Princess Margaret Hospital\, Hong Kong
END:VEVENT
BEGIN:VEVENT
DTSTART;TZID=UTC:20160622T180000
DTEND;TZID=UTC:20160622T190000
DTSTAMP:20260419T132203
CREATED:20160605T233205Z
LAST-MODIFIED:20160707T154851Z
UID:704-1466618400-1466622000@hksid.org
SUMMARY:Inter-­hospital Infectious Diseases Grand Round - "Updates in PrEP"
DESCRIPTION:Document
URL:https://hksid.org/event/inter-%c2%adhospital-infectious-diseases-grand-round-updates-in-prep/
LOCATION:Major Incident Control Centre (MICC)\, 16th floor\, Block S\, Princess Margaret Hospital\, Hong Kong
END:VEVENT
BEGIN:VEVENT
DTSTART;TZID=UTC:20160518T190000
DTEND;TZID=UTC:20160518T213000
DTSTAMP:20260419T132203
CREATED:20160415T170511Z
LAST-MODIFIED:20160725T235237Z
UID:226-1463598000-1463607000@hksid.org
SUMMARY:Expert update - From HIV prevention to long term management and HCV treatment
DESCRIPTION:Document
URL:https://hksid.org/event/expert-update-from-hiv-prevention-to-long-term-management-and-hcv-treatment/
LOCATION:Hong Kong Convention and Exhibition Centre
END:VEVENT
BEGIN:VEVENT
DTSTART;VALUE=DATE:20160517
DTEND;VALUE=DATE:20160520
DTSTAMP:20260419T132203
CREATED:20160101T091443Z
LAST-MODIFIED:20160101T092915Z
UID:95-1463443200-1463702399@hksid.org
SUMMARY:1st Asia Pacific Conference on AIDS & CO-INFECTIONS
DESCRIPTION:
URL:https://hksid.org/event/1st-asia-pacific-conference-on-aids-co-infections/
LOCATION:Hong Kong Convention & Exhibition Centre
END:VEVENT
BEGIN:VEVENT
DTSTART;VALUE=DATE:20160423
DTEND;VALUE=DATE:20160425
DTSTAMP:20260419T132203
CREATED:20160226T045613Z
LAST-MODIFIED:20160226T045613Z
UID:173-1461369600-1461542399@hksid.org
SUMMARY:Multi-specialty Medical Mega Conference 2016
DESCRIPTION:
URL:https://hksid.org/event/multi-specialty-medical-mega-conference-2016/
LOCATION:Langham Place\, 8 Argyle Street\, Mong Kok\, Kowloon\, Hong Kong
END:VEVENT
BEGIN:VEVENT
DTSTART;TZID=UTC:20160420T180000
DTEND;TZID=UTC:20160420T190000
DTSTAMP:20260419T132203
CREATED:20160410T000432Z
LAST-MODIFIED:20160521T190625Z
UID:210-1461175200-1461178800@hksid.org
SUMMARY:ID Grand Round - A lady with recurrent lymphadenitis
DESCRIPTION:Presenter: Dr Wyman Hui \nDocument
URL:https://hksid.org/event/id-grand-round-a-lady-with-recurrent-lymphadenitis/
LOCATION:Major Incident Control Centre (MICC)\, Princess Margaret Hospital\, Hong Kong
END:VEVENT
BEGIN:VEVENT
DTSTART;VALUE=DATE:20160319
DTEND;VALUE=DATE:20160320
DTSTAMP:20260419T132203
CREATED:20160206T031623Z
LAST-MODIFIED:20160319T032406Z
UID:144-1458345600-1458431999@hksid.org
SUMMARY:HKSID 20th Annual Scientific Meeting
DESCRIPTION:
URL:https://hksid.org/event/hksid-20th-annual-scientific-meeting/
LOCATION:Jade Ballroom\, 380 Nathan Road\, Jordan\, Hong Kong
ATTACH;FMTTYPE=image/jpeg:https://hksid.org/wp-content/uploads/2016/02/20th-Logo-3-e1458357815223.jpg
END:VEVENT
BEGIN:VEVENT
DTSTART;TZID=Asia/Shanghai:20160317T183000
DTEND;TZID=Asia/Shanghai:20160317T220000
DTSTAMP:20260419T132203
CREATED:20160302T220825Z
LAST-MODIFIED:20160302T220825Z
UID:177-1458239400-1458252000@hksid.org
SUMMARY:Transforming HCV care with One solution: Real World data from bench to bedside
DESCRIPTION:
URL:https://hksid.org/event/transforming-hcv-care-with-one-solution-real-world-data-from-bench-to-bedside/
LOCATION:The Park Lane\, The Park Lane\, Hong Kong
END:VEVENT
BEGIN:VEVENT
DTSTART;VALUE=DATE:20160302
DTEND;VALUE=DATE:20160306
DTSTAMP:20260419T132203
CREATED:20160101T090111Z
LAST-MODIFIED:20160101T092610Z
UID:93-1456876800-1457222399@hksid.org
SUMMARY:11th Asia Pacific Travel Health Conference
DESCRIPTION:
URL:https://hksid.org/event/11th-asia-pacific-travel-health-conference/
END:VEVENT
BEGIN:VEVENT
DTSTART;TZID=UTC:20160113T190000
DTEND;TZID=UTC:20160113T220000
DTSTAMP:20260419T132203
CREATED:20160101T085438Z
LAST-MODIFIED:20160101T092939Z
UID:90-1452711600-1452722400@hksid.org
SUMMARY:ADDRESSING MRSA: ARE WE AT A TURNING POINT?
DESCRIPTION:
URL:https://hksid.org/event/addressing-mrsa-are-we-at-a-turning-point/
LOCATION:Hyatt Regency Hong Kong\, Hong Kong
END:VEVENT
BEGIN:VEVENT
DTSTART;TZID=Asia/Shanghai:20151120T140000
DTEND;TZID=Asia/Shanghai:20151120T174500
DTSTAMP:20260419T132203
CREATED:20150920T134339Z
LAST-MODIFIED:20150922T041300Z
UID:64-1448028000-1448041500@hksid.org
SUMMARY:Health Promotion Symposium 2015
DESCRIPTION:HPS2015-Tentative-Programme
URL:https://hksid.org/event/health-promotion-symposium-2015/
LOCATION:99 Wong Chuk Hang Road\, 99 Wong Chuk Hang Road\, Hong Kong
END:VEVENT
END:VCALENDAR